BEGIN:VCALENDAR
VERSION:2.0
PRODID:-//Age Friendly Homes - ECPv6.15.20//NONSGML v1.0//EN
CALSCALE:GREGORIAN
METHOD:PUBLISH
X-ORIGINAL-URL:https://agefriendlyhomes.ie
X-WR-CALDESC:Events for Age Friendly Homes
REFRESH-INTERVAL;VALUE=DURATION:PT1H
X-Robots-Tag:noindex
X-PUBLISHED-TTL:PT1H
BEGIN:VTIMEZONE
TZID:Europe/Dublin
BEGIN:DAYLIGHT
TZOFFSETFROM:+0000
TZOFFSETTO:+0100
TZNAME:IST
DTSTART:20240331T010000
END:DAYLIGHT
BEGIN:STANDARD
TZOFFSETFROM:+0100
TZOFFSETTO:+0000
TZNAME:GMT
DTSTART:20241027T010000
END:STANDARD
BEGIN:DAYLIGHT
TZOFFSETFROM:+0000
TZOFFSETTO:+0100
TZNAME:IST
DTSTART:20250330T010000
END:DAYLIGHT
BEGIN:STANDARD
TZOFFSETFROM:+0100
TZOFFSETTO:+0000
TZNAME:GMT
DTSTART:20251026T010000
END:STANDARD
BEGIN:DAYLIGHT
TZOFFSETFROM:+0000
TZOFFSETTO:+0100
TZNAME:IST
DTSTART:20260329T010000
END:DAYLIGHT
BEGIN:STANDARD
TZOFFSETFROM:+0100
TZOFFSETTO:+0000
TZNAME:GMT
DTSTART:20261025T010000
END:STANDARD
END:VTIMEZONE
BEGIN:VEVENT
DTSTART;TZID=Europe/Dublin:20250618T113000
DTEND;TZID=Europe/Dublin:20250618T130000
DTSTAMP:20260422T152338
CREATED:20250612T125505Z
LAST-MODIFIED:20250612T125514Z
UID:3295-1750246200-1750251600@agefriendlyhomes.ie
SUMMARY:Empowerment through Smart Home Equipment (Smart Home Gateway Project) Webinar
DESCRIPTION:Anyone with an interest in assistive technology\, please feel free to share the invite with your contacts.  \n\n\n\nThis interactive session will showcase the journeys of 8 individuals who have been supported to set up their own smart home ecosystems. You’ll hear how smart devices like Amazon Echo and other assistive technologies are being used in daily life to enhance independence\, safety\, and comfort.
URL:https://agefriendlyhomes.ie/event/empowerment-through-smart-home-equipment-smart-home-gateway-project-webinar/
ATTACH;FMTTYPE=image/png:https://agefriendlyhomes.ie/wp-content/uploads/2025/06/Smart-Home.png
END:VEVENT
END:VCALENDAR