BEGIN:VCALENDAR
VERSION:2.0
PRODID:-//Age Friendly Homes - ECPv6.15.20//NONSGML v1.0//EN
CALSCALE:GREGORIAN
METHOD:PUBLISH
X-WR-CALNAME:Age Friendly Homes
X-ORIGINAL-URL:https://agefriendlyhomes.ie
X-WR-CALDESC:Events for Age Friendly Homes
REFRESH-INTERVAL;VALUE=DURATION:PT1H
X-Robots-Tag:noindex
X-PUBLISHED-TTL:PT1H
BEGIN:VTIMEZONE
TZID:Europe/Dublin
BEGIN:DAYLIGHT
TZOFFSETFROM:+0000
TZOFFSETTO:+0100
TZNAME:IST
DTSTART:20200329T010000
END:DAYLIGHT
BEGIN:STANDARD
TZOFFSETFROM:+0100
TZOFFSETTO:+0000
TZNAME:GMT
DTSTART:20201025T010000
END:STANDARD
BEGIN:DAYLIGHT
TZOFFSETFROM:+0000
TZOFFSETTO:+0100
TZNAME:IST
DTSTART:20210328T010000
END:DAYLIGHT
BEGIN:STANDARD
TZOFFSETFROM:+0100
TZOFFSETTO:+0000
TZNAME:GMT
DTSTART:20211031T010000
END:STANDARD
BEGIN:DAYLIGHT
TZOFFSETFROM:+0000
TZOFFSETTO:+0100
TZNAME:IST
DTSTART:20220327T010000
END:DAYLIGHT
BEGIN:STANDARD
TZOFFSETFROM:+0100
TZOFFSETTO:+0000
TZNAME:GMT
DTSTART:20221030T010000
END:STANDARD
BEGIN:DAYLIGHT
TZOFFSETFROM:+0000
TZOFFSETTO:+0100
TZNAME:IST
DTSTART:20230326T010000
END:DAYLIGHT
BEGIN:STANDARD
TZOFFSETFROM:+0100
TZOFFSETTO:+0000
TZNAME:GMT
DTSTART:20231029T010000
END:STANDARD
BEGIN:DAYLIGHT
TZOFFSETFROM:+0000
TZOFFSETTO:+0100
TZNAME:IST
DTSTART:20240331T010000
END:DAYLIGHT
BEGIN:STANDARD
TZOFFSETFROM:+0100
TZOFFSETTO:+0000
TZNAME:GMT
DTSTART:20241027T010000
END:STANDARD
BEGIN:DAYLIGHT
TZOFFSETFROM:+0000
TZOFFSETTO:+0100
TZNAME:IST
DTSTART:20250330T010000
END:DAYLIGHT
BEGIN:STANDARD
TZOFFSETFROM:+0100
TZOFFSETTO:+0000
TZNAME:GMT
DTSTART:20251026T010000
END:STANDARD
BEGIN:DAYLIGHT
TZOFFSETFROM:+0000
TZOFFSETTO:+0100
TZNAME:IST
DTSTART:20260329T010000
END:DAYLIGHT
BEGIN:STANDARD
TZOFFSETFROM:+0100
TZOFFSETTO:+0000
TZNAME:GMT
DTSTART:20261025T010000
END:STANDARD
END:VTIMEZONE
BEGIN:VEVENT
DTSTART;TZID=Europe/Dublin:20250604T000000
DTEND;TZID=Europe/Dublin:20250606T235959
DTSTAMP:20260422T230054
CREATED:20250526T154954Z
LAST-MODIFIED:20250526T161150Z
UID:3283-1748995200-1749254399@agefriendlyhomes.ie
SUMMARY:ISHF - International Social Housing Festival
DESCRIPTION:Age Friendly Ireland are looking forward to the ISHF – International Social Housing Festival hosted by Irish Council for Social Housing and Co-operative Housing Ireland on 4th to 6th June 2025 at the Convention Centre in Dublin.With the support of Centre for Excellence in Universal Design (CEUD) Fold Housing and Clann Age Friendly Ireland will be delivering a seminar on Housing Options for Ireland’s Ageing Population on Wednesday 4th June.Full details of the festival and how to register can be found at https://lnkd.in/eYQYGFHg
URL:https://agefriendlyhomes.ie/event/ishf-international-social-housing-festival/
LOCATION:The Convention Centre Dublin\, Spencer Dock\, N Wall Quay\, North Wall\, Dublin 1\, D01 T1W6\, Ireland
CATEGORIES:Age Friendly Ireland
ATTACH;FMTTYPE=image/png:https://agefriendlyhomes.ie/wp-content/uploads/2025/05/ISHF.png
END:VEVENT
BEGIN:VEVENT
DTSTART;TZID=Europe/Dublin:20240917T090000
DTEND;TZID=Europe/Dublin:20240919T170000
DTSTAMP:20260422T230054
CREATED:20240715T145611Z
LAST-MODIFIED:20240715T145620Z
UID:3057-1726563600-1726765200@agefriendlyhomes.ie
SUMMARY:National Ploughing Championships
DESCRIPTION:Age Friendly Ireland will have a stand at the Ploughing this year. We will be located in hub 5 ‘Housing and Recruitment’ in the Government Village.
URL:https://agefriendlyhomes.ie/event/national-ploughing-championships/
ATTACH;FMTTYPE=image/jpeg:https://agefriendlyhomes.ie/wp-content/uploads/2024/07/IMG-20230920-WA0018.jpg
END:VEVENT
BEGIN:VEVENT
DTSTART;TZID=Europe/Dublin:20240710T110000
DTEND;TZID=Europe/Dublin:20240710T120000
DTSTAMP:20260422T230054
CREATED:20240715T144828Z
LAST-MODIFIED:20240715T144911Z
UID:3050-1720609200-1720612800@agefriendlyhomes.ie
SUMMARY:Official Launch of the National Healthy Age Friendly Homes Programme and The Final Evaluation Report
DESCRIPTION:
URL:https://agefriendlyhomes.ie/event/offical-launch-of-the-national-healthy-age-friendly-homes-programme-and-the-final-evaluation-report/
END:VEVENT
BEGIN:VEVENT
DTSTART;TZID=Europe/Dublin:20211102T120000
DTEND;TZID=Europe/Dublin:20211102T140000
DTSTAMP:20260422T230054
CREATED:20211116T110322Z
LAST-MODIFIED:20211116T110857Z
UID:2019-1635854400-1635861600@agefriendlyhomes.ie
SUMMARY:A Spotlight on Age Friendly Ireland | Policy to Practice | Webinar 1 – Age Friendly Housing
DESCRIPTION:Join us for Webinar 1 – Age Friendly Housing on Tuesday the 2nd of November from 12.00pm to 2.00pm (IST – Irish Standard Time) \n\n\n\nIreland is uniquely positioned as the first Age Friendly Country in the world\, with full affiliation across all administrative areas to the World Health Organisation’s global Age Friendly Cities and Communities Programme. Age Friendly Ireland is thereby acknowledged as an international leader in terms of Age Friendly principles and practices. To showcase the work undertaken by the Programme since 2009\, we are hosting a series of international webinars over the coming months. Eight webinars will be delivered in total\, each one focusing on one of the eight World Health Organisation domains for Age Friendly Communities (Housing\, Community Support & Health Services\, Social Participation\, Respect & Social Inclusion\, Communication & Information\, Transportation\, Outdoor Space & Buildings\, Civic Participation & Employment). \n\n\n\nYou can watch a recording of the webinar by clicking here or see below.
URL:https://agefriendlyhomes.ie/event/a-spotlight-on-age-friendly-ireland-policy-to-practice-webinar-1-age-friendly-housing/
LOCATION:Solstice Arts Centre\, Railway St\, Dillonsland\, Navan\, Co. Meath\, C15 KWP1\, Ireland
END:VEVENT
BEGIN:VEVENT
DTSTART;TZID=Europe/Dublin:20210622T110000
DTEND;TZID=Europe/Dublin:20210622T120000
DTSTAMP:20260422T230054
CREATED:20210602T092553Z
LAST-MODIFIED:20210621T203307Z
UID:1428-1624359600-1624363200@agefriendlyhomes.ie
SUMMARY:Launch of Agefriendlyhomes.ie
DESCRIPTION:Streaming live from the Custom House and in the presence of both Minister Peter Burke and Minister Mary Butler\, the Housing Agency\, Age Friendly Ireland\, the Department of Housing\, Local Government and Heritage and the Department of Health are launching a brand-new website called agefriendlyhomes.ie to support the preparation of housing for the ageing population.
URL:https://agefriendlyhomes.ie/event/launch-of-agefriendlyhomes-ie/
END:VEVENT
END:VCALENDAR