BEGIN:VCALENDAR
VERSION:2.0
PRODID:-//Age Friendly Homes - ECPv6.15.20//NONSGML v1.0//EN
CALSCALE:GREGORIAN
METHOD:PUBLISH
X-WR-CALNAME:Age Friendly Homes
X-ORIGINAL-URL:https://agefriendlyhomes.ie
X-WR-CALDESC:Events for Age Friendly Homes
REFRESH-INTERVAL;VALUE=DURATION:PT1H
X-Robots-Tag:noindex
X-PUBLISHED-TTL:PT1H
BEGIN:VTIMEZONE
TZID:Europe/Dublin
BEGIN:DAYLIGHT
TZOFFSETFROM:+0000
TZOFFSETTO:+0100
TZNAME:IST
DTSTART:20240331T010000
END:DAYLIGHT
BEGIN:STANDARD
TZOFFSETFROM:+0100
TZOFFSETTO:+0000
TZNAME:GMT
DTSTART:20241027T010000
END:STANDARD
BEGIN:DAYLIGHT
TZOFFSETFROM:+0000
TZOFFSETTO:+0100
TZNAME:IST
DTSTART:20250330T010000
END:DAYLIGHT
BEGIN:STANDARD
TZOFFSETFROM:+0100
TZOFFSETTO:+0000
TZNAME:GMT
DTSTART:20251026T010000
END:STANDARD
BEGIN:DAYLIGHT
TZOFFSETFROM:+0000
TZOFFSETTO:+0100
TZNAME:IST
DTSTART:20260329T010000
END:DAYLIGHT
BEGIN:STANDARD
TZOFFSETFROM:+0100
TZOFFSETTO:+0000
TZNAME:GMT
DTSTART:20261025T010000
END:STANDARD
END:VTIMEZONE
BEGIN:VEVENT
DTSTART;TZID=Europe/Dublin:20251009T183000
DTEND;TZID=Europe/Dublin:20251009T203000
DTSTAMP:20260422T181618
CREATED:20250929T153259Z
LAST-MODIFIED:20250929T153530Z
UID:3421-1760034600-1760041800@agefriendlyhomes.ie
SUMMARY:Age-Friendly Housing: How Housing Policy can Shape Positive Ageing
DESCRIPTION:The late Simon Brooke\, whose memory is in honour of Clúid’s annual policy lecture\, was former Board Member and later Head of Policy with Clúid\, up until his untimely death in November 2019. Simon worked tirelessly to break the stigmas attached to social housing and to ensure that everyone in Ireland had a great place to live.Simon’s willingness to challenge the status quo\, advocating for policy change to improve people’s lives and his drive to collaborate and share knowledge\, has shaped the social housing sector for the better. These are the qualities that led to the creation of the Simon Brooke Lecture. \n\n\n\nThe 2025 Simon Brooke Lecture will focus on Age-Friendly Housing in Ireland\, the current issues surrounding funding and design for age-friendly homes\, with an exploration of the challenges and benefits of rightsizing to assist older people to age in their communities. \n\n\n\nThis year’s lecture will include contributions from Age-Friendly Ireland\, Co-Housing Communities Ireland\, Sage Advocacy\, and Clann (Cluid’s age-friendly housing service) for a range of perspectives on this timely issue. \n\n\n\nDate: 9th October 2025Time: Registration and reception from 6.30pm\, seated by 7pmLocation: Royal Convention Centre\, Ship Street Great\, Dublin\, D08 E6PD
URL:https://agefriendlyhomes.ie/event/age-friendly-housing-how-housing-policy-can-shape-positive-ageing/
LOCATION:Royal Convention Centre\,\, Ship Street Great\, Dublin\, Dublin\, D08E6PD\, Ireland
ATTACH;FMTTYPE=image/png:https://agefriendlyhomes.ie/wp-content/uploads/2025/09/Simon-Brook-Lecture.png
END:VEVENT
END:VCALENDAR