BEGIN:VCALENDAR
VERSION:2.0
PRODID:-//Age Friendly Homes - ECPv6.15.20//NONSGML v1.0//EN
CALSCALE:GREGORIAN
METHOD:PUBLISH
X-ORIGINAL-URL:https://agefriendlyhomes.ie
X-WR-CALDESC:Events for Age Friendly Homes
REFRESH-INTERVAL;VALUE=DURATION:PT1H
X-Robots-Tag:noindex
X-PUBLISHED-TTL:PT1H
BEGIN:VTIMEZONE
TZID:Europe/Dublin
BEGIN:DAYLIGHT
TZOFFSETFROM:+0000
TZOFFSETTO:+0100
TZNAME:IST
DTSTART:20250330T010000
END:DAYLIGHT
BEGIN:STANDARD
TZOFFSETFROM:+0100
TZOFFSETTO:+0000
TZNAME:GMT
DTSTART:20251026T010000
END:STANDARD
BEGIN:DAYLIGHT
TZOFFSETFROM:+0000
TZOFFSETTO:+0100
TZNAME:IST
DTSTART:20260329T010000
END:DAYLIGHT
BEGIN:STANDARD
TZOFFSETFROM:+0100
TZOFFSETTO:+0000
TZNAME:GMT
DTSTART:20261025T010000
END:STANDARD
BEGIN:DAYLIGHT
TZOFFSETFROM:+0000
TZOFFSETTO:+0100
TZNAME:IST
DTSTART:20270328T010000
END:DAYLIGHT
BEGIN:STANDARD
TZOFFSETFROM:+0100
TZOFFSETTO:+0000
TZNAME:GMT
DTSTART:20271031T010000
END:STANDARD
END:VTIMEZONE
BEGIN:VEVENT
DTSTART;TZID=Europe/Dublin:20260205T074500
DTEND;TZID=Europe/Dublin:20260205T160000
DTSTAMP:20260422T122839
CREATED:20260126T122901Z
LAST-MODIFIED:20260126T122913Z
UID:3451-1770277500-1770307200@agefriendlyhomes.ie
SUMMARY:National Health Summit
DESCRIPTION:Our Chief Officer\, Catherine McGuigan \, is thrilled to be speaking at the National Health Summit\, which takes place on the 5th of February\, at Croke Park\, Dublin. The Summit will bring together leading experts\, policymakers\, clinicians and healthcare management professionals to discuss and address the most pressing healthcare challenges of our time and how to build a healthier future. \n\n\n\nView the extensive agenda here – https://healthsummit.ie/agenda/2026/ #HealthSummit26
URL:https://agefriendlyhomes.ie/event/national-health-summit/
ATTACH;FMTTYPE=image/jpeg:https://agefriendlyhomes.ie/wp-content/uploads/2026/01/26115179-VLhGS2H2.jpg
END:VEVENT
END:VCALENDAR